BEGIN:VCALENDAR
VERSION:2.0
PRODID:Events Booking
BEGIN:VEVENT
UID:69e5ab97d1abf
SUMMARY:Yoga & Hiking – Anti-Stress Edition στον Σχινιά
DESCRIPTION:Την Κυριακή 30 Νοεμβρίου 2025 σας προ
 σκαλούμε σε μια μοναδική εμπειρία Yoga &amp\;
  Hiking στον Σχινιά\, που συνδυάζει ήπια πεζ
 οπορία και anti-stress πρακτική yoga δίπλα στη θ
 άλασσα\, σε ένα από τα πιο όμορφα φυσικά τ
 οπία της Αττικής.
DTSTART:20251130T080000Z
DTEND:20251130T110000Z
DTSTAMP:20251115T203355Z
ORGANIZER;CN=Wanderlust Outdoor Activities:MAILTO:info@wanderlustactivities
 .gr
END:VEVENT
END:VCALENDAR