BEGIN:VCALENDAR
VERSION:2.0
PRODID:Events Booking
BEGIN:VEVENT
UID:69e7c466a9213
SUMMARY:Πάρνηθα Πεζοπορία | Μικρή & Μεγάλη Χο
 ύνη | Κυκλική Διαδρομή στην Πάρνηθα
DESCRIPTION: BEGIN:VCALENDAR
 VERSION:2.0
 PRODID:-//Wanderlust Outdoor A
 ctivities & Travel//Hiking Event//EL
 CALSCALE:GREGORIAN
 METHOD:PUBLISH
 
 
 BEGIN:VEVENT
 UID:parnitha-mikri-megali-houni-24012026@wanderlustac
 tivities.gr
 DTSTAMP:20260108T120000Z
 DTSTART:20260124T064000Z
 DTEND:
 20260124T123000Z
 SUMMARY:Κυκλική Πεζοπορία στην Πά
 ρνηθα – Μικρή & Μεγάλη Χούνη
 LOCATION:Πάρκι
 νγκ Τελεφερίκ Πάρνηθα\, Πάρνηθα\, Ελλάδα

  DESCRIPTION:Κυκλική πεζοπορία στη Μικρή και Μ
 εγάλη Χούνη στην Πάρνηθα με τη Wanderlust Outdoor
  Activities & Travel.\\n\\nΔιαδρομή μέσα σε σκιερά φ
 αράγγια και δάσος με στάση στο εκκλησάκι
  της Αγίας Τριάδας.\\n\\nΑπόσταση: 9.5 χλμ\\nΥ
 ψομετρική: +560 μ / -560 μ\\nΒαθμός δυσκολίας: 
 Β\\nΧρόνος πεζοπορίας με στάσεις: περίπου
  5:30 ώρες\\n\\nΑπαραίτητη προηγούμενη πεζοπ
 ορική εμπειρία και καλή φυσική κατάστασ
 η.\\nΥποχρεωτικά πεζοπορικό μποτάκι και μ
 πατόν.\\n\\nΔιοργάνωση: Wanderlust Outdoor Activities & Tra
 vel
 STATUS:CONFIRMED
 END:VEVENT
 
 END:VCALENDAR
 
LOCATION:Πάρνηθος\, Κοινότητα Αχαρνών\, Δημοτ
 ική Ενότητα Αχαρνών\, Δήμος Αχαρνών\, Περ
 ιφερειακή Ενότητα Ανατολικής Αττικής\, Π
 εριφέρεια Αττικής\, Αποκεντρωμένη Διοίκ
 ηση Αττικής\, 136 76\, Ελλάδα
DTSTART:20260510T060000Z
DTEND:20260510T120000Z
DTSTAMP:20260409T125646Z
ORGANIZER;CN=Wanderlust Outdoor Activities:MAILTO:info@wanderlustactivities
 .gr
GEO:38.13793;23.740836
X-APPLE-STRUCTURED-LOCATION;VALUE=URI;X-ADDRESS=Πάρνηθος\, Κοιν
 ότητα Αχαρνών\, Δημοτική Ενότητα Αχαρνών
 \, Δήμος Αχαρνών\, Περιφερειακή Ενότητα Α
 νατολικής Αττικής\, Περιφέρεια Αττικής\, 
 Αποκεντρωμένη Διοίκηση Αττικής\, 136 76\, Ελ
 λάδα;X-APPLE-RADIUS=72;X-TITLE=Πάρκινγκ Τελεφερίκ Π
 άρνηθα :38.13793;23.740836
END:VEVENT
END:VCALENDAR