BEGIN:VCALENDAR
VERSION:2.0
PRODID:Events Booking
BEGIN:VEVENT
UID:69e5abb7321cf
SUMMARY:Inner Power Yoga & Hiking στον Σχινιά | Ήπια Πεζο
 πορία & Yoga στη Φύση
DESCRIPTION:BEGIN:VCALENDAR
 VERSION:2.0
 PRODID:-//Wanderlust Outdoor Ac
 tivities & Travel//Events//EN
 CALSCALE:GREGORIAN
 METHOD:PUBLISH
 BEGI
 N:VEVENT
 UID:wanderlust-inner-power-yoga-hiking-schinias-20260308-en@wan
 derlust
 DTSTAMP:20260224T100000Z
 DTSTART\;TZID=Europe/Athens:20260308T
 090000
 DTEND\;TZID=Europe/Athens:20260308T140000
 SUMMARY:Inner Power Y
 oga & Hiking | Schinias (08 Mar 2026)
 LOCATION:Schinias National Park (E
 xact Meeting Point: https://maps.app.goo.gl/bfyfKoEUD4zuHrD39)
 DESCRIPTI
 ON:Sunday 08 March 2026: Inner Power Yoga & Hiking at Schinias National Pa
 rk. Easy coastal forest hike and guided outdoor yoga session focused on co
 re strength\, renewal and inner confidence.\\n\\nExact meeting point / GPS
 : https://maps.app.goo.gl/bfyfKoEUD4zuHrD39\\n\\nRequirements: comfortable
  clothing\, personal yoga mat.\\n\\nOrganized by: Wanderlust Outdoor Activ
 ities & Travel
 URL:https://maps.app.goo.gl/bfyfKoEUD4zuHrD39
 BEGIN:VAL
 ARM
 TRIGGER:-PT18H
 ACTION:DISPLAY
 DESCRIPTION:Reminder: Inner Power 
 Yoga & Hiking | Schinias (tomorrow)
 END:VALARM
 END:VEVENT
 END:VCALEN
 DAR
 
 BEGIN:VCALENDAR
 VERSION:2.0
 PRODID:-//Wanderlust Outdoor Acti
 vities & Travel//Events//EN
 CALSCALE:GREGORIAN
 METHOD:PUBLISH
 BEGIN:
 VEVENT
 UID:wanderlust-inner-power-yoga-hiking-schinias-20260308-en@wande
 rlust
 DTSTAMP:20260224T100000Z
 DTSTART\;TZID=Europe/Athens:20260308T09
 0000
 DTEND\;TZID=Europe/Athens:20260308T140000
 SUMMARY:Inner Power Yog
 a & Hiking | Schinias (08 Mar 2026)
 LOCATION:Schinias National Park (Exa
 ct Meeting Point: https://maps.app.goo.gl/bfyfKoEUD4zuHrD39)
 DESCRIPTION
 :Sunday 08 March 2026: Inner Power Yoga & Hiking at Schinias National Park
 . Easy coastal forest hike and guided outdoor yoga session focused on core
  strength\, renewal and inner confidence.\\n\\nExact meeting point / GPS: 
 https://maps.app.goo.gl/bfyfKoEUD4zuHrD39\\n\\nRequirements: comfortable c
 lothing\, personal yoga mat.\\n\\nOrganized by: Wanderlust Outdoor Activit
 ies & Travel
 URL:https://maps.app.goo.gl/bfyfKoEUD4zuHrD39
 BEGIN:VALAR
 M
 TRIGGER:-PT18H
 ACTION:DISPLAY
 DESCRIPTION:Reminder: Inner Power Yo
 ga & Hiking | Schinias (tomorrow)
 END:VALARM
 END:VEVENT
 END:VCALENDA
 R
DTSTART:20260308T080000Z
DTEND:20260308T120000Z
DTSTAMP:20260224T081922Z
ORGANIZER;CN=Wanderlust Outdoor Activities:MAILTO:info@wanderlustactivities
 .gr
END:VEVENT
END:VCALENDAR