BEGIN:VCALENDAR
VERSION:2.0
PRODID:Events Booking
BEGIN:VEVENT
UID:69e597522b6c6
SUMMARY:Hiking & Yoga Treatment στον Υμηττό – Μια Ολιστ
 ική Εμπειρία Φύσης και Ευεξίας
DESCRIPTION:Ζήσε μια μοναδική εμπειρία το Σάββ
 ατο 27 Σεπτεμβρίου στον Υμηττό\, συνδυάζο
 ντας ήπια πεζοπορία και θεραπευτική yoga μ
 έσα στο αισθητικό δάσος. Απόλαυσε τη φύσ
 η\, ενίσχυσε τη σωματική σου ενδυνάμωση κ
 αι βρες την ψυχική ισορροπία που χρειάζε
 σαι.
LOCATION:XQ7V+JC Kesariani\, Greece
DTSTART:20250927T070000Z
DTEND:20250927T100000Z
DTSTAMP:20250912T040704Z
ORGANIZER;CN=Wanderlust Outdoor Activities:MAILTO:info@wanderlustactivities
 .gr
GEO:37.964233;23.792698
X-APPLE-STRUCTURED-LOCATION;VALUE=URI;X-ADDRESS=XQ7V+JC Kesariani\, Greece;
 X-APPLE-RADIUS=72;X-TITLE=Πυροφυλάκιο Καισαριανής :3
 7.964233;23.792698
END:VEVENT
END:VCALENDAR