BEGIN:VCALENDAR
VERSION:2.0
PRODID:Events Booking
BEGIN:VEVENT
UID:69e5ac02ab90a
SUMMARY:Spring Equinox Hiking & Yoga στον Υμηττό
DESCRIPTION:BEGIN:VCALENDAR
 VERSION:2.0
 PRODID:-//Wanderlust Outdoor Ac
 tivities//Event Calendar//EN
 BEGIN:VEVENT
 UID:wand-hiking-yoga-ymittos
 -220326
 DTSTAMP:20260301T120000Z
 DTSTART:20260322T070000Z
 DTEND:2026
 0322T110000Z
 SUMMARY:Spring Equinox Hiking & Yoga – Mount Hymettus
 D
 ESCRIPTION:Join Wanderlust Outdoor Activities for a Spring Equinox Hiking 
 & Yoga experience on Mount Hymettus near Athens. Gentle hiking in the fore
 st combined with a guided yoga session inspired by the balance of the Spri
 ng Equinox.
 LOCATION:Mount Hymettus\, Athens\, Greece
 END:VEVENT
 END
 :VCALENDAR
LOCATION:XQ7V+JC Kesariani\, Greece
DTSTART:20260322T080000Z
DTEND:20260322T120000Z
DTSTAMP:20260307T161727Z
ORGANIZER;CN=Wanderlust Outdoor Activities:MAILTO:info@wanderlustactivities
 .gr
GEO:37.964233;23.792698
X-APPLE-STRUCTURED-LOCATION;VALUE=URI;X-ADDRESS=XQ7V+JC Kesariani\, Greece;
 X-APPLE-RADIUS=72;X-TITLE=Πυροφυλάκιο Καισαριανής :3
 7.964233;23.792698
END:VEVENT
END:VCALENDAR