BEGIN:VCALENDAR
VERSION:2.0
PRODID:Events Booking
BEGIN:VEVENT
UID:69e5956955347
SUMMARY:Hiking and Yoga Treatment 
DESCRIPTION:Το νέο αγαπημένο μας project Hiking &amp\; Yog
 a Treatment\, θα πραγματοποιηθεί το Σάββατο 12/1
 0 στο εθνικό πάρκο του Σχινιά στο μεγαλύτ
 ερο παράκτιο υγρότοπο της Αττικής και έν
 αν από τους μεγαλύτερους στην Ανατολική 
 Ελλάδα!
 
 
 
 
 
 
 
 
 
 
 
 
 
 
 
 
DTSTART:20241012T070000Z
DTEND:20241012T103000Z
DTSTAMP:20231005T185118Z
ORGANIZER;CN=Wanderlust Outdoor Activities:MAILTO:info@wanderlustactivities
 .gr
END:VEVENT
END:VCALENDAR