BEGIN:VCALENDAR
VERSION:2.0
PRODID:Events Booking
BEGIN:VEVENT
UID:69e59600dc801
SUMMARY:Hiking and Yoga Treatment 
DESCRIPTION:Το αγαπημένο μας project Hiking &amp\; Yoga Treat
 ment\, θα πραγματοποιηθεί το Σάββατο 31/05 στ
 ο εθνικό πάρκο του Σχινιά στο μεγαλύτερο
  παράκτιο υγρότοπο της Αττικής και έναν 
 από τους μεγαλύτερους στην Ανατολική Ελ
 λάδα!
 
DTSTART:20250531T070000Z
DTEND:20250531T103000Z
DTSTAMP:20250517T082153Z
ORGANIZER;CN=Wanderlust Outdoor Activities:MAILTO:info@wanderlustactivities
 .gr
END:VEVENT
END:VCALENDAR