BEGIN:VCALENDAR
VERSION:2.0
PRODID:Events Booking
BEGIN:VEVENT
UID:69e5961f320f4
SUMMARY:Hiking and Yoga Treatment 
DESCRIPTION:Το νέο αγαπημένο μας project Hiking &amp\; Yog
 a Treatment\, θα πραγματοποιηθεί το Σάββατο&nbsp
 \;17/05&nbsp\;στον Εθνικό Δρυμό της Πάρνηθας!
 
DTSTART:20250517T063000Z
DTEND:20250517T103000Z
DTSTAMP:20231005T185118Z
ORGANIZER;CN=Wanderlust Outdoor Activities:MAILTO:info@wanderlustactivities
 .gr
END:VEVENT
END:VCALENDAR