BEGIN:VCALENDAR
VERSION:2.0
PRODID:Events Booking
BEGIN:VEVENT
UID:69e595bc053c1
SUMMARY:Hiking and Yoga Treatment 
DESCRIPTION:Το νέο αγαπημένο μας project Hiking &amp\; Yog
 a Treatment\, θα πραγματοποιηθεί την Κυριακή 13
 /04 στο εθνικό πάρκο του Σχινιά στο μεγαλύ
 τερο παράκτιο υγρότοπο της Αττικής και έ
 ναν από τους μεγαλύτερους στην Ανατολικ
 ή Ελλάδα!
 
DTSTART:20250413T070000Z
DTEND:20250413T103000Z
DTSTAMP:20231005T185118Z
ORGANIZER;CN=Wanderlust Outdoor Activities:MAILTO:info@wanderlustactivities
 .gr
END:VEVENT
END:VCALENDAR