BEGIN:VCALENDAR
VERSION:2.0
PRODID:Events Booking
BEGIN:VEVENT
UID:69e5956fd3fe6
SUMMARY:Hiking and Yoga Treatment
DESCRIPTION:Το Σάββατο 01/06 θα πραγματοποιήσουμ
 ε το νέο μας project\, Hiking &amp\; Yoga Treatment στο αισ
 θητικό δάσος Υμηττού!
 
 
 
 
 
 
 
 
 
 
 

  
 
 
 
 
LOCATION:XQ7V+JC Kesariani\, Greece
DTSTART:20240601T060000Z
DTEND:20240601T100000Z
DTSTAMP:20231005T185118Z
ORGANIZER;CN=Wanderlust Outdoor Activities:MAILTO:info@wanderlustactivities
 .gr
GEO:37.964233;23.792698
X-APPLE-STRUCTURED-LOCATION;VALUE=URI;X-ADDRESS=XQ7V+JC Kesariani\, Greece;
 X-APPLE-RADIUS=72;X-TITLE=Πυροφυλάκιο Καισαριανής :3
 7.964233;23.792698
END:VEVENT
END:VCALENDAR