BEGIN:VCALENDAR
VERSION:2.0
PRODID:Events Booking
BEGIN:VEVENT
UID:69e595b745ff1
SUMMARY:Deep Breath Yoga & Hiking στον Υμηττό
DESCRIPTION:BEGIN:VEVENT
 SUMMARY:Deep Breath Yoga & Hiking στον Υμ
 ηττό
 DTSTART:20251116T100000
 DTEND:20251116T130000
 DESCRIPTION:
 Η Wanderlust Outdoor Activities & Travel σε καλεί σε μια φθ
 ινοπωρινή εμπειρία που συνδυάζει πεζοπο
 ρία και yoga στον Υμηττό. Μια βαθιά πρακτικ
 ή συνειδητής αναπνοής\, ηρεμίας και αναζ
 ωογόνησης που επαναφέρει την ισορροπία 
 σώματος και νου.\\n\\nΣημείο συνάντησης: Πυ
 ροφυλάκιο Καισαριανής\\nΔιάρκεια: 3 ώρες\\
 nΕισηγήτρια: Κατερίνα Καρασμάνη
 LOCATION:Υμ
 ηττός\, Καισαριανή\, Αθήνα
 END:VEVENT
 
LOCATION:XQ7V+JC Kesariani\, Greece
DTSTART:20251116T080000Z
DTEND:20251116T110000Z
DTSTAMP:20251031T123429Z
ORGANIZER;CN=Wanderlust Outdoor Activities:MAILTO:info@wanderlustactivities
 .gr
GEO:37.964233;23.792698
X-APPLE-STRUCTURED-LOCATION;VALUE=URI;X-ADDRESS=XQ7V+JC Kesariani\, Greece;
 X-APPLE-RADIUS=72;X-TITLE=Πυροφυλάκιο Καισαριανής :3
 7.964233;23.792698
END:VEVENT
END:VCALENDAR