BEGIN:VCALENDAR
VERSION:2.0
PRODID:Events Booking
BEGIN:VEVENT
UID:69e596257472c
SUMMARY:Autumn Yoga & Hiking στον Υμηττό
DESCRIPTION:Στις 2 Νοεμβρίου\, η Wanderlust Outdoor Activitie
 s &amp\; Travel σε καλεί σε μια
 φθινοπωρινή δρ
 αστηριότητα που συνδυάζει πεζοπορία και
  yoga\, προσφέροντας μια
 βαθιά εμπειρία ευ
 εξίας\, ηρεμίας και φυσικής σύνδεσης
LOCATION:XQ7V+JC Kesariani\, Greece
DTSTART:20251102T080000Z
DTEND:20251102T110000Z
DTSTAMP:20251016T115257Z
ORGANIZER;CN=Wanderlust Outdoor Activities:MAILTO:info@wanderlustactivities
 .gr
GEO:37.964233;23.792698
X-APPLE-STRUCTURED-LOCATION;VALUE=URI;X-ADDRESS=XQ7V+JC Kesariani\, Greece;
 X-APPLE-RADIUS=72;X-TITLE=Πυροφυλάκιο Καισαριανής :3
 7.964233;23.792698
END:VEVENT
END:VCALENDAR