BEGIN:VCALENDAR
VERSION:2.0
PRODID:Events Booking
BEGIN:VEVENT
UID:69e5d74668131
SUMMARY:Winter Yoga & Hiking at Schinias
DESCRIPTION:BEGIN:VCALENDAR
 VERSION:2.0
 PRODID:-//Wanderlust Outdoor Ac
 tivities//Winter Yoga & Hiking Schinias//EL
 CALSCALE:GREGORIAN
 
 BEGI
 N:VEVENT
 UID:winter-yoga-hiking-schinias-20260118@wanderlust.gr
 DTSTAM
 P:20260101T100000Z
 DTSTART\;VALUE=DATE:20260118
 DTEND\;VALUE=DATE:2026
 0119
 SUMMARY:Winter Yoga & Hiking στον Σχινιά
 LOCATION:Εθ
 νικό Πάρκο Σχινιά – Μαραθώνα
 DESCRIPTION:Χει
 μερινή εμπειρία Hiking & Yoga στο Εθνικό Πάρκο
  Σχινιά. Ήπια πεζοπορία στο πευκοδάσος κ
 αι καθοδηγούμενη πρακτική yoga στη φύση\, ι
 δανική για ευεξία\, χαλάρωση και αναζωογ
 όνηση.
 END:VEVENT
 
 END:VCALENDAR
DTSTART:20260118T080000Z
DTEND:20260118T110000Z
DTSTAMP:20260105T115530Z
ORGANIZER;CN=Wanderlust Outdoor Activities:MAILTO:info@wanderlustactivities
 .gr
END:VEVENT
END:VCALENDAR