BEGIN:VCALENDAR
VERSION:2.0
PRODID:Events Booking
BEGIN:VEVENT
UID:69e5d6a38e99f
SUMMARY:Winter Yoga & Hiking
DESCRIPTION:BEGIN:VCALENDAR
 VERSION:2.0
 PRODID:-//Wanderlust Outdoor Ac
 tivities & Travel//Winter Yoga & Hiking//EN
 CALSCALE:GREGORIAN
 
 BEGI
 N:VEVENT
 UID:winter-yoga-hiking-20251228@wanderlustoutdoor.gr
 DTSTAMP:
 20251201T090000Z
 DTSTART\;VALUE=DATE:20251228
 DTEND\;VALUE=DATE:202512
 29
 SUMMARY:Winter Yoga & Hiking
 DESCRIPTION:Winter Yoga & Hiking – A
  winter Hiking & Yoga experience in nature by Wanderlust Outdoor Activitie
 s & Travel. Gentle hiking combined with guided yoga practice focused on wa
 rmth\, breathing\, balance and winter wellbeing.
 LOCATION:Ymittos Mounta
 in\, Athens\, Greece
 END:VEVENT
 
 END:VCALENDAR
 
LOCATION:XQ7V+JC Kesariani\, Greece
DTSTART:20251228T080000Z
DTEND:20251228T110000Z
DTSTAMP:20251213T192349Z
ORGANIZER;CN=Wanderlust Outdoor Activities:MAILTO:info@wanderlustactivities
 .gr
GEO:37.964233;23.792698
X-APPLE-STRUCTURED-LOCATION;VALUE=URI;X-ADDRESS=XQ7V+JC Kesariani\, Greece;
 X-APPLE-RADIUS=72;X-TITLE=Kaisariani Fire lookout station :37.964233;23.79
 2698
END:VEVENT
END:VCALENDAR