BEGIN:VCALENDAR
VERSION:2.0
PRODID:Events Booking
BEGIN:VEVENT
UID:69eb8fb991d45
SUMMARY:Training With Your Dog | 31st Edition 
DESCRIPTION:🔶 Training with Your Dog – 31st Edition!
 On beautiful Mo
 unt Hymettus\, Saturday\, May 2nd\,&nbsp\;our unique project of positive d
 og training in nature begins again\, with groups up to 10 participants for
  personal guidance and a meaningful experience.
LOCATION:XQ7V+JC Kesariani\, Greece
DTSTART:20260502T070000Z
DTEND:20260502T090000Z
DTSTAMP:20260424T062054Z
ORGANIZER;CN=Wanderlust Outdoor Activities:MAILTO:info@wanderlustactivities
 .gr
GEO:37.964233;23.792698
X-APPLE-STRUCTURED-LOCATION;VALUE=URI;X-ADDRESS=XQ7V+JC Kesariani\, Greece;
 X-APPLE-RADIUS=72;X-TITLE=Kaisariani Fire lookout station :37.964233;23.79
 2698
END:VEVENT
END:VCALENDAR