BEGIN:VCALENDAR
VERSION:2.0
PRODID:Events Booking
BEGIN:VEVENT
UID:69e5c542d9194
SUMMARY:Hiking & Yoga Treatment on Mount Hymettus – A Unique Wellness Exp
 erience
DESCRIPTION:Discover a unique experience that blends hiking and yoga on Sat
 urday\, September 27th\, in the heart of Mount Hymettus’ Aesthetic Fores
 t. Walk along peaceful trails\, breathe in fresh mountain air\, and enjoy 
 a restorative yoga session that brings strength\, relaxation\, and mental 
 clarity.
LOCATION:XQ7V+JC Kesariani\, Greece
DTSTART:20250927T070000Z
DTEND:20250927T100000Z
DTSTAMP:20250912T040704Z
ORGANIZER;CN=Wanderlust Outdoor Activities:MAILTO:info@wanderlustactivities
 .gr
GEO:37.964233;23.792698
X-APPLE-STRUCTURED-LOCATION;VALUE=URI;X-ADDRESS=XQ7V+JC Kesariani\, Greece;
 X-APPLE-RADIUS=72;X-TITLE=Kaisariani Fire lookout station :37.964233;23.79
 2698
END:VEVENT
END:VCALENDAR