BEGIN:VCALENDAR
VERSION:2.0
PRODID:Events Booking
BEGIN:VEVENT
UID:69e5d534dea5c
SUMMARY:Hiking & Winter Yoga on Mount Ymittos | A Winter Outdoor Experience
DESCRIPTION:BEGIN:VCALENDAR
 VERSION:2.0
 PRODID:-//Wanderlust Outdoor Ac
 tivities & Travel//Events//EN
 CALSCALE:GREGORIAN
 METHOD:PUBLISH
 BEGI
 N:VEVENT
 UID:wanderlust-hiking-winter-yoga-ymittos-20260222@wanderlustou
 tdooractivities.travel
 DTSTAMP:20260206T150000Z
 DTSTART\;TZID=Europe/A
 thens:20260222T090000
 DTEND\;TZID=Europe/Athens:20260222T150000
 SUMMAR
 Y:Hiking & Winter Yoga on Mount Ymittos
 LOCATION:Mount Ymittos\\\, Athen
 s\\\, Greece
 DESCRIPTION:Sunday 22 February 2026 – A winter Hiking & Y
 oga experience on Mount Ymittos\\\, combining gentle hiking with a guided 
 outdoor yoga practice.\\n\\nBring: comfortable outdoor clothing\\\, person
 al yoga mat\\\, water/snacks.\\n\\nWanderlust Outdoor Activities & Travel
 
 STATUS:CONFIRMED
 TRANSP:OPAQUE
 BEGIN:VALARM
 TRIGGER:-P1D
 ACTION:
 DISPLAY
 DESCRIPTION:Reminder: Hiking & Winter Yoga on Mount Ymittos (tom
 orrow)
 END:VALARM
 END:VEVENT
 END:VCALENDAR
 
LOCATION:XQ7V+JC Kesariani\, Greece
DTSTART:20260222T080000Z
DTEND:20260222T110000Z
DTSTAMP:20260206T134807Z
ORGANIZER;CN=Wanderlust Outdoor Activities:MAILTO:info@wanderlustactivities
 .gr
GEO:37.964233;23.792698
X-APPLE-STRUCTURED-LOCATION;VALUE=URI;X-ADDRESS=XQ7V+JC Kesariani\, Greece;
 X-APPLE-RADIUS=72;X-TITLE=Kaisariani Fire lookout station :37.964233;23.79
 2698
END:VEVENT
END:VCALENDAR