BEGIN:VCALENDAR
VERSION:2.0
PRODID:Events Booking
BEGIN:VEVENT
UID:69e5d534e3366
SUMMARY:Hiking & Winter Yoga on Mount Ymittos
DESCRIPTION:BEGIN:VCALENDAR
 VERSION:2.0
 PRODID:-//Wanderlust Outdoor Ac
 tivities//Events//EL
 CALSCALE:GREGORIAN
 METHOD:PUBLISH
 
 BEGIN:VTIM
 EZONE
 TZID:Europe/Athens
 X-LIC-LOCATION:Europe/Athens
 BEGIN:DAYLIGHT
 
 TZOFFSETFROM:+0200
 TZOFFSETTO:+0300
 TZNAME:EEST
 DTSTART:19700329T
 030000
 RRULE:FREQ=YEARLY\;BYMONTH=3\;BYDAY=-1SU
 END:DAYLIGHT
 BEGIN:S
 TANDARD
 TZOFFSETFROM:+0300
 TZOFFSETTO:+0200
 TZNAME:EET
 DTSTART:197
 01025T040000
 RRULE:FREQ=YEARLY\;BYMONTH=10\;BYDAY=-1SU
 END:STANDARD
 
 END:VTIMEZONE
 
 BEGIN:VEVENT
 UID:20260208-ymittos-hiking-yoga@wanderl
 ustoutdooractivities
 DTSTAMP:20260118T000000Z
 DTSTART\;TZID=Europe/Ath
 ens:20260208T093000
 DTEND\;TZID=Europe/Athens:20260208T143000
 SUMMARY:
 Hiking & Yoga στον Υμηττό | Κυριακή 08/02/2026
 LOCATION
 :Υμηττός (ακριβές σημείο συνάντησης θα α
 νακοινωθεί)
 DESCRIPTION:Κυριακή 08/02/2026: Hiking & Yo
 ga στον Υμηττό\, με ήπια πεζοπορία σε δασι
 κό περιβάλλον και καθοδηγούμενη πρακτικ
 ή yoga στη φύση για ευεξία\, αναπνοή και απο
 φόρτιση.\\n\\nΧρήσιμοι σύνδεσμοι:\\n- Τι να π
 άρ
 
LOCATION:XQ7V+JC Kesariani\, Greece
DTSTART:20260208T080000Z
DTEND:20260208T110000Z
DTSTAMP:20260118T125101Z
ORGANIZER;CN=Wanderlust Outdoor Activities:MAILTO:info@wanderlustactivities
 .gr
GEO:37.964233;23.792698
X-APPLE-STRUCTURED-LOCATION;VALUE=URI;X-ADDRESS=XQ7V+JC Kesariani\, Greece;
 X-APPLE-RADIUS=72;X-TITLE=Kaisariani Fire lookout station :37.964233;23.79
 2698
END:VEVENT
END:VCALENDAR