BEGIN:VCALENDAR
VERSION:2.0
PRODID:Events Booking
BEGIN:VEVENT
UID:69e5c49bc85bc
SUMMARY:Hiking and Yoga Treatment 
DESCRIPTION:Our new favorite project Hiking &amp\; Yoga Treatment\, will ta
 ke place on Sunday 30/03 in the national park of Schinias in the largest c
 oastal wetland of Attica and one of the largest in Eastern Greece!
 
 
DTSTART:20250330T070000Z
DTEND:20250330T103000Z
DTSTAMP:20231005T185118Z
ORGANIZER;CN=Wanderlust Outdoor Activities:MAILTO:info@wanderlustactivities
 .gr
END:VEVENT
END:VCALENDAR