BEGIN:VCALENDAR
VERSION:2.0
PRODID:Events Booking
BEGIN:VEVENT
UID:69e5c36f3b2cd
SUMMARY:Hiking and Yoga Treatment 
DESCRIPTION:Our favorite project\, Hiking &amp\; Yoga Treatment\, will take
  place on Saturday 09/11 in the heart of the aesthetic forest of Hymettus\
 , combining the unique experience of hiking and yoga!
LOCATION:XQ7V+JC Kesariani\, Greece
DTSTART:20241109T110000Z
DTEND:20241109T140000Z
DTSTAMP:20231005T185118Z
ORGANIZER;CN=Wanderlust Outdoor Activities:MAILTO:info@wanderlustactivities
 .gr
GEO:37.964233;23.792698
X-APPLE-STRUCTURED-LOCATION;VALUE=URI;X-ADDRESS=XQ7V+JC Kesariani\, Greece;
 X-APPLE-RADIUS=72;X-TITLE=Kaisariani Fire lookout station :37.964233;23.79
 2698
END:VEVENT
END:VCALENDAR