BEGIN:VCALENDAR
VERSION:2.0
PRODID:Events Booking
BEGIN:VEVENT
UID:69e5d50093820
SUMMARY:Heart Opening Yoga & Hiking
DESCRIPTION:BEGIN:VCALENDAR
 VERSION:2.0
 PRODID:-//Wanderlust Outdoor Ac
 tivities//Heart Opening Yoga & Hiking//EN
 BEGIN:VEVENT
 UID:heart-openi
 ng-yoga-hiking-20251214@wanderlust.gr
 DTSTAMP:20251128T080000Z
 DTSTART
 \;VALUE=DATE:20251214
 DTEND\;VALUE=DATE:20251215
 SUMMARY:Heart Opening
  Yoga & Hiking
 LOCATION:Πυροφυλάκιο Καισαριανής\\\
 , Υμηττός
 DESCRIPTION:Μια ημερήσια εμπειρία σ
 το δάσος του Υμηττού που συνδυάζει ήπια 
 πεζοπορία και καθοδηγούμενη πρακτική yoga
 . Εστίαση στη συνειδητή αναπνοή\\\, την εν
 δυνάμωση του σώματος και την εσωτερική η
 ρεμία μέσα στη φύση. Οργάνωση: Wanderlust Outdoor 
 Activities & Travel.
 END:VEVENT
 END:VCALENDAR
 
LOCATION:XQ7V+JC Kesariani\, Greece
DTSTART:20251214T080000Z
DTEND:20251214T110000Z
DTSTAMP:20251128T191313Z
ORGANIZER;CN=Wanderlust Outdoor Activities:MAILTO:info@wanderlustactivities
 .gr
GEO:37.964233;23.792698
X-APPLE-STRUCTURED-LOCATION;VALUE=URI;X-ADDRESS=XQ7V+JC Kesariani\, Greece;
 X-APPLE-RADIUS=72;X-TITLE=Kaisariani Fire lookout station :37.964233;23.79
 2698
END:VEVENT
END:VCALENDAR