BEGIN:VCALENDAR
VERSION:2.0
PRODID:Events Booking
BEGIN:VEVENT
UID:69e5d56853a05
SUMMARY:Anti-Stress Yoga & Hiking in Schinias
DESCRIPTION:On Sunday\, 30 November 2025 we invite you to a unique Yoga &am
 p\; Hiking experience in Schinias\, combining an easy coastal hike and an 
 anti-stress yoga practice by the sea\, in one of the most beautiful natura
 l landscapes of Attica.
DTSTART:20251130T080000Z
DTEND:20251130T110000Z
DTSTAMP:20251115T203355Z
ORGANIZER;CN=Wanderlust Outdoor Activities:MAILTO:info@wanderlustactivities
 .gr
END:VEVENT
END:VCALENDAR